BEGIN:VCALENDAR
VERSION:2.0
PRODID:-//Alps Inspiration - ECPv6.0.5//NONSGML v1.0//EN
CALSCALE:GREGORIAN
METHOD:PUBLISH
X-ORIGINAL-URL:https://alpinspiration.com
X-WR-CALDESC:Events for Alps Inspiration
REFRESH-INTERVAL;VALUE=DURATION:PT1H
X-Robots-Tag:noindex
X-PUBLISHED-TTL:PT1H
BEGIN:VTIMEZONE
TZID:Europe/Zurich
BEGIN:DAYLIGHT
TZOFFSETFROM:+0100
TZOFFSETTO:+0200
TZNAME:CEST
DTSTART:20230326T010000
END:DAYLIGHT
BEGIN:STANDARD
TZOFFSETFROM:+0200
TZOFFSETTO:+0100
TZNAME:CET
DTSTART:20231029T010000
END:STANDARD
END:VTIMEZONE
BEGIN:VEVENT
DTSTART;VALUE=DATE:20231014
DTEND;VALUE=DATE:20231017
DTSTAMP:20260420T095934
CREATED:20211127T175033Z
LAST-MODIFIED:20220920T121657Z
UID:29031-1697241600-1697500799@alpinspiration.com
SUMMARY:Effort & Confort
DESCRIPTION:Je vous emmène durant 3 jours sur les chemins entre la frontière suisse & italienne. Nous traverserons de magnifiques paysages alpins bordés de lacs de montagnes illuminés par les mélèzes en feu. Notre logement se fera dans un confortable agritourisme dans le féérique village de Hanzel et Gretel. Une expérience inoubliable et hors du temps !
URL:https://alpinspiration.com/event/effort-et-confort/
LOCATION:Binntal
CATEGORIES:Inspiration été,Trek
ATTACH;FMTTYPE=image/jpeg:https://alpinspiration.com/wp-content/uploads/2021/11/photo-4-1-scaled.jpg
ORGANIZER;CN="Melanie%20M%C3%BCri":MAILTO:melanie.muri@netplus.ch
END:VEVENT
END:VCALENDAR